﻿BEGIN:VCALENDAR
VERSION:2.0
PRODID:-//wp-events-plugin.com//7.2.3.1//EN
BEGIN:VEVENT
UID:1988@venizeleio.gr
DTSTART:20210520T110000Z
DTEND:20210520T120000Z
DTSTAMP:20210519T084914Z
URL:https://www.venizeleio.gr/events/%cf%80%ce%b1%ce%b8%ce%bf%ce%bb%ce%bf%
 ce%b3%ce%b9%ce%ba%ce%bf%cf%83-%ce%bd%ce%bf%cf%83%ce%b7%ce%bb%ce%b5%cf%85%c
 f%84%ce%b9%ce%ba%ce%bf%cf%83-%cf%84%ce%bf%ce%bc%ce%b5%ce%b1%cf%83-%cf%83%c
 f%85%ce%bd/
SUMMARY:ΠΑΘΟΛΟΓΙΚΟΣ ΝΟΣΗΛΕΥΤΙΚΟΣ ΤΟΜΕΑΣ ΣΥΝ
 ΑΝΤΗΣΗ ΕΡΓΑΣΙΑΣ
DESCRIPTION:ΠΑΘΟΛΟΓΙΚΟΣ ΝΟΣΗΛΕΥΤΙΚΟΣ ΤΟΜΕΑΣ\,
   ΣΥΝΑΝΤΗΣΗ ΕΡΓΑΣΙΑΣ\n\n&nbsp\;\n\n&nbsp\;\n\n&nbsp\;\n\
 nΒ. ΠΑΠΑΔΑΚΗΣ\n\nΤΟΜΕΑΡΧΗΣ ΝΥ
CATEGORIES:Παρουσίαση-Ενημέρωση
LOCATION:Βιβλιοθήκη Γ.Ν. Βενιζέλειο - Πανάνει
 ο\, Λεωφόρος Κνωσού\, Ηράκλειο\, Ελλάδα\, 714
 09\, Κρήτη\, Greece
X-APPLE-STRUCTURED-LOCATION;VALUE=URI;X-ADDRESS=Λεωφόρος Κνωσο
 ύ\, Ηράκλειο\, Ελλάδα\, 71409\, Κρήτη\, Greece;X-APPLE
 -RADIUS=100;X-TITLE=Βιβλιοθήκη Γ.Ν. Βενιζέλειο - Π
 ανάνειο:geo:0,0
END:VEVENT
END:VCALENDAR