﻿BEGIN:VCALENDAR
VERSION:2.0
PRODID:-//wp-events-plugin.com//7.2.3.1//EN
BEGIN:VEVENT
UID:1987@venizeleio.gr
DTSTART:20210519T120000Z
DTEND:20210519T123000Z
DTSTAMP:20210517T082258Z
URL:https://www.venizeleio.gr/events/%cf%83%cf%85%ce%bd%ce%b5%ce%bd%ce%b4%
 ce%b9%ce%b1%cf%83%ce%b7-%ce%b5%cf%80%ce%b9%cf%84%cf%81%ce%bf%cf%80%ce%b7%c
 f%83-%cf%83%ce%ba%ce%bf%cf%80%ce%b9%ce%bc%ce%bf%cf%84%ce%b7%cf%84%ce%b1%cf
 %83-2/
SUMMARY:ΣΥΝΕΝΔΙΑΣΗ ΕΠΙΤΡΟΠΗΣ ΣΚΟΠΙΜΟΤΗΤΑΣ
DESCRIPTION:
CATEGORIES:Συνέλευση
LOCATION:Βιβλιοθήκη Γ.Ν. Βενιζέλειο - Πανάνει
 ο\, Λεωφόρος Κνωσού\, Ηράκλειο\, Ελλάδα\, 714
 09\, Κρήτη\, Greece
X-APPLE-STRUCTURED-LOCATION;VALUE=URI;X-ADDRESS=Λεωφόρος Κνωσο
 ύ\, Ηράκλειο\, Ελλάδα\, 71409\, Κρήτη\, Greece;X-APPLE
 -RADIUS=100;X-TITLE=Βιβλιοθήκη Γ.Ν. Βενιζέλειο - Π
 ανάνειο:geo:0,0
END:VEVENT
END:VCALENDAR