﻿BEGIN:VCALENDAR
VERSION:2.0
PRODID:-//wp-events-plugin.com//7.2.3.1//EN
BEGIN:VEVENT
UID:436@venizeleio.gr
DTSTART:20190906T100000Z
DTEND:20190906T120000Z
DTSTAMP:20190903T092341Z
URL:https://www.venizeleio.gr/events/ekpaideysi-stin-efarmogi-docutracks/
SUMMARY:ΕΚΠΑΙΔΕΥΣΗ ΣΤΗΝ ΕΦΑΡΜΟΓΗ DOCUTRACKS
DESCRIPTION:Η ΕΚΠΑΙΔΕΥΣΗ ΑΦΟΡΑ ΤΗ ΔΙΑΔΙΚΑΣΙΑ Ε
 ΞΩΣΥΜΒΑΤΙΚΗΣ ΔΑΠΑΝΗΣ ΜΕΤΑ ΤΗΝ ΕΓΚΡΙΣΗ.\n\
 nΚΑΛΟΥΝΤΑΙ ΤΑ ΠΑΡΕΥΡΙΣΚΟΝΤΑΙ ΤΑ ΤΜΗΜΑΤΑ 
 ΠΡΟΜΗΘΕΙΩΝ\, ΛΟΓΙΣΤΗΡΙΟΥ ΚΑΙ ΔΙΑΧΕΙΡΙΣΕ
 ΩΝ.
CATEGORIES:Παρουσίαση-Ενημέρωση
LOCATION:Βιβλιοθήκη Γ.Ν. Βενιζέλειο - Πανάνει
 ο\, Λεωφόρος Κνωσού\, Ηράκλειο\, Ελλάδα\, 714
 09\, Κρήτη\, Greece
X-APPLE-STRUCTURED-LOCATION;VALUE=URI;X-ADDRESS=Λεωφόρος Κνωσο
 ύ\, Ηράκλειο\, Ελλάδα\, 71409\, Κρήτη\, Greece;X-APPLE
 -RADIUS=100;X-TITLE=Βιβλιοθήκη Γ.Ν. Βενιζέλειο - Π
 ανάνειο:geo:0,0
END:VEVENT
END:VCALENDAR