﻿BEGIN:VCALENDAR
VERSION:2.0
PRODID:-//wp-events-plugin.com//7.2.3.1//EN
BEGIN:VEVENT
UID:1094@venizeleio.gr
DTSTART:20210219T083000Z
DTEND:20210219T093000Z
DTSTAMP:20201022T110854Z
URL:https://www.venizeleio.gr/events/ekpaideytika-mathimata-fysikotherapei
 as-quot-sygkroyseis-se-organismoys-tropoi-antimetopisis-kai-diacheirisis-q
 uot-tzoyanakis-ioannis-msc-psychologos-koikepsype-g-n-i-quot-venizeleio-qu
 ot/
SUMMARY:Εκπαιδευτικά μαθήματα Φυσικοθεραπε
 ίας. "Συγκρούσεις σε οργανισμούς. Τρόποι 
 αντιμετώπισης και διαχείρισης". Τζουανά
 κης Ιωάννης\, Μsc Ψυχολόγος ΚοιΚεΨυΠΕ\, Γ.Ν
 .Η."Βενιζέλειο"
DESCRIPTION:
CATEGORIES:Εκπαίδευση
LOCATION:Βιβλιοθήκη Γ.Ν. Βενιζέλειο - Πανάνει
 ο\, Λεωφόρος Κνωσού\, Ηράκλειο\, Ελλάδα\, 714
 09\, Κρήτη\, Greece
X-APPLE-STRUCTURED-LOCATION;VALUE=URI;X-ADDRESS=Λεωφόρος Κνωσο
 ύ\, Ηράκλειο\, Ελλάδα\, 71409\, Κρήτη\, Greece;X-APPLE
 -RADIUS=100;X-TITLE=Βιβλιοθήκη Γ.Ν. Βενιζέλειο - Π
 ανάνειο:geo:0,0
END:VEVENT
END:VCALENDAR