﻿BEGIN:VCALENDAR
VERSION:2.0
PRODID:-//wp-events-plugin.com//7.2.3.1//EN
BEGIN:VEVENT
UID:1099@venizeleio.gr
DTSTART:20210514T083000Z
DTEND:20210514T093000Z
DTSTAMP:20201030T112456Z
URL:https://www.venizeleio.gr/events/ekpaideytika-mathimata-fysikotherapei
 as-ta-ofeli-tis-askisis-stin-triti-ilikia-sarigianni-maria-fysikotherapeyt
 ria-tmima-fysikotherapeias-g-n-i-venizeleio/
SUMMARY:Εκπαιδευτικά μαθήματα Φυσικοθεραπε
 ίας. Τα οφέλη της άσκησης στην τρίτη ηλικ
 ία. Σαρηγιάννη Μαρία\, Φυσικοθεραπεύτρια
 \, Τμήμα Φυσικοθεραπείας\, Γ.Ν.Η. «Βενιζέλ
 ειο».
DESCRIPTION:
CATEGORIES:Εκπαίδευση
LOCATION:Βιβλιοθήκη Γ.Ν. Βενιζέλειο - Πανάνει
 ο\, Λεωφόρος Κνωσού\, Ηράκλειο\, Ελλάδα\, 714
 09\, Κρήτη\, Greece
X-APPLE-STRUCTURED-LOCATION;VALUE=URI;X-ADDRESS=Λεωφόρος Κνωσο
 ύ\, Ηράκλειο\, Ελλάδα\, 71409\, Κρήτη\, Greece;X-APPLE
 -RADIUS=100;X-TITLE=Βιβλιοθήκη Γ.Ν. Βενιζέλειο - Π
 ανάνειο:geo:0,0
END:VEVENT
END:VCALENDAR