﻿BEGIN:VCALENDAR
VERSION:2.0
PRODID:-//wp-events-plugin.com//7.2.3.1//EN
BEGIN:VEVENT
UID:1105@venizeleio.gr
DTSTART:20210113T133000Z
DTEND:20210113T143000Z
DTSTAMP:20201108T063014Z
URL:https://www.venizeleio.gr/events/ekpaideytiko-programma-a-pathologikis
 -13/
SUMMARY:Εκπαιδευτικό Πρόγραμμα Α Παθολογική
 ς
DESCRIPTION:Έναρξη κύκλου μαθημάτων για τον HIV 
 (συνολικά πέντε μαθήματα): ΗΙV-AIDS: Μετάδοσ
 η - Φυσική πορεία – Εξέλιξη - Στάδια νόσο
 υ\, Μανώλης Μπαρμπουνάκης\, Παθολόγος-Λοι
 μωξ/γος\, Διευθυντής\, Παθολoγική Κλινική 
 ΠΑΓΝΗ – Υπεύθυνος Μονάδας AIDS ΠΑΓΝΗ
CATEGORIES:Εκπαίδευση
LOCATION:Βιβλιοθήκη Γ.Ν. Βενιζέλειο - Πανάνει
 ο\, Λεωφόρος Κνωσού\, Ηράκλειο\, Ελλάδα\, 714
 09\, Κρήτη\, Greece
X-APPLE-STRUCTURED-LOCATION;VALUE=URI;X-ADDRESS=Λεωφόρος Κνωσο
 ύ\, Ηράκλειο\, Ελλάδα\, 71409\, Κρήτη\, Greece;X-APPLE
 -RADIUS=100;X-TITLE=Βιβλιοθήκη Γ.Ν. Βενιζέλειο - Π
 ανάνειο:geo:0,0
END:VEVENT
END:VCALENDAR