﻿BEGIN:VCALENDAR
VERSION:2.0
PRODID:-//wp-events-plugin.com//7.2.3.1//EN
BEGIN:VEVENT
UID:344@venizeleio.gr
DTSTART:20190219T093000Z
DTEND:20190219T123000Z
DTSTAMP:20190218T062711Z
URL:https://www.venizeleio.gr/events/epimorfotiko-seminario-gia-tin-katarg
 isi-toy-proliptikoy-elegchoy-sta-nosokomeia/
SUMMARY:ΕΠΙΜΟΡΦΩΤΙΚΟ ΣΕΜΙΝΑΡΙΟ ΓΙΑ ΤΗΝ ΚΑΤΑ
 ΡΓΗΣΗ ΤΟΥ ΠΡΟΛΗΠΤΙΚΟΥ ΕΛΕΓΧΟΥ ΣΤΑ ΝΟΣΟΚ
 ΟΜΕΙΑ
DESCRIPTION:
CATEGORIES:Παρουσίαση-Ενημέρωση
LOCATION:Βιβλιοθήκη Γ.Ν. Βενιζέλειο - Πανάνει
 ο\, Λεωφόρος Κνωσού\, Ηράκλειο\, Ελλάδα\, 714
 09\, Κρήτη\, Greece
X-APPLE-STRUCTURED-LOCATION;VALUE=URI;X-ADDRESS=Λεωφόρος Κνωσο
 ύ\, Ηράκλειο\, Ελλάδα\, 71409\, Κρήτη\, Greece;X-APPLE
 -RADIUS=100;X-TITLE=Βιβλιοθήκη Γ.Ν. Βενιζέλειο - Π
 ανάνειο:geo:0,0
END:VEVENT
END:VCALENDAR