﻿BEGIN:VCALENDAR
VERSION:2.0
PRODID:-//wp-events-plugin.com//7.2.3.1//EN
BEGIN:VEVENT
UID:322@venizeleio.gr
DTSTART:20190506T120000Z
DTEND:20190506T130000Z
DTSTAMP:20190201T054750Z
URL:https://www.venizeleio.gr/events/metekpaideytika-mathimata-cheir-kis-k
 linikis-vgni-14/
SUMMARY:Μετεκπαιδευτικά Μαθήματα Χειρ/κής Κ
 λινικής ΒΓΝΗ
DESCRIPTION:"Νεότερα δεδομένα για την προφυλακ
 τική χορήγηση αντιβιωτικών σε χειρουργι
 κούς ασθενείς"\n\n-Πετράκη Κική
CATEGORIES:Εκπαίδευση
LOCATION:Βιβλιοθήκη Γ.Ν. Βενιζέλειο - Πανάνει
 ο\, Λεωφόρος Κνωσού\, Ηράκλειο\, Ελλάδα\, 714
 09\, Κρήτη\, Greece
X-APPLE-STRUCTURED-LOCATION;VALUE=URI;X-ADDRESS=Λεωφόρος Κνωσο
 ύ\, Ηράκλειο\, Ελλάδα\, 71409\, Κρήτη\, Greece;X-APPLE
 -RADIUS=100;X-TITLE=Βιβλιοθήκη Γ.Ν. Βενιζέλειο - Π
 ανάνειο:geo:0,0
END:VEVENT
END:VCALENDAR