﻿BEGIN:VCALENDAR
VERSION:2.0
PRODID:-//wp-events-plugin.com//7.2.3.1//EN
BEGIN:VEVENT
UID:334@venizeleio.gr
DTSTART:20190715T120000Z
DTEND:20190715T130000Z
DTSTAMP:20190201T055506Z
URL:https://www.venizeleio.gr/events/metekpaideytika-mathimata-cheir-kis-k
 linikis-vgni-27/
SUMMARY:Μετεκπαιδευτικά Μαθήματα Χειρ/κής Κ
 λινικής ΒΓΝΗ
DESCRIPTION:"Παρουσίαση των λαπαροσκοπικών επ
 εμβάσεων επί του παχέος εντέρου και ορθο
 ύ της Χειρουργικής Κλινικής ΒΓΝΗ"\n\n-Τσαγ
 κατάκη Ελένη\, Abushanab Ahmed\n\nΣχολιαστής: Φλα
 μουράκης Ματθαίος
CATEGORIES:Εκπαίδευση
LOCATION:Βιβλιοθήκη Γ.Ν. Βενιζέλειο - Πανάνει
 ο\, Λεωφόρος Κνωσού\, Ηράκλειο\, Ελλάδα\, 714
 09\, Κρήτη\, Greece
X-APPLE-STRUCTURED-LOCATION;VALUE=URI;X-ADDRESS=Λεωφόρος Κνωσο
 ύ\, Ηράκλειο\, Ελλάδα\, 71409\, Κρήτη\, Greece;X-APPLE
 -RADIUS=100;X-TITLE=Βιβλιοθήκη Γ.Ν. Βενιζέλειο - Π
 ανάνειο:geo:0,0
END:VEVENT
END:VCALENDAR