﻿BEGIN:VCALENDAR
VERSION:2.0
PRODID:-//wp-events-plugin.com//7.2.3.1//EN
BEGIN:VEVENT
UID:1088@venizeleio.gr
DTSTART:20210208T080000Z
DTEND:20210208T090000Z
DTSTAMP:20201019T063919Z
URL:https://www.venizeleio.gr/events/oliki-arthroplastiki-gonatos-dr-kroys
 talakis-georgios-md-phd-dieythyntis-orthopaidikis-klinikis-g-n-i-quot-veni
 zeleio-quot/
SUMMARY:Ολική αρθροπλαστική γόνατος\, Dr Κρου
 σταλάκης Γεώργιος\, MD\, PhD (Διευθυντής Ορθ
 οπαιδικής κλινικής\, Γ.Ν.Η. "Βενιζέλειο"
DESCRIPTION:Εκπαιδευτικά μαθήματα Φυσικοθερα
 πείας
CATEGORIES:Εκπαίδευση
LOCATION:Βιβλιοθήκη Γ.Ν. Βενιζέλειο - Πανάνει
 ο\, Λεωφόρος Κνωσού\, Ηράκλειο\, Ελλάδα\, 714
 09\, Κρήτη\, Greece
X-APPLE-STRUCTURED-LOCATION;VALUE=URI;X-ADDRESS=Λεωφόρος Κνωσο
 ύ\, Ηράκλειο\, Ελλάδα\, 71409\, Κρήτη\, Greece;X-APPLE
 -RADIUS=100;X-TITLE=Βιβλιοθήκη Γ.Ν. Βενιζέλειο - Π
 ανάνειο:geo:0,0
END:VEVENT
END:VCALENDAR