﻿BEGIN:VCALENDAR
VERSION:2.0
PRODID:-//wp-events-plugin.com//7.2.3.1//EN
BEGIN:VEVENT
UID:906@venizeleio.gr
DTSTART:20200919T063000Z
DTEND:20200920T143000Z
DTSTAMP:20200709T082851Z
URL:https://www.venizeleio.gr/events/otago-seminario-askiseon-gia-tin-prol
 ipsi-p/
SUMMARY:OTAGO:  Σεμινάριο Ασκήσεων για την Πρόλ
 ηψη Πτώσεων των Ηλικιωμένων "Otago Exercise Progra
 mme (ΟΕΡ)"
DESCRIPTION:Στα πλαίσια της λειτουργίας του Ια
 τρείου πρόληψης πτώσεων γηριατρικών ασθ
 ενών που τελείται υπό την αιγίδα της κ. Α
 λπαντάκη (Επιμελ. του τμήματος Ορθοπεδικ
 ής Γ.Ν.Η "Βειζέλειο" σε συνεργασία με το τ
 μήμα Φυσικοθεραπείας&nbsp\; θα γίνει εκπαι
 δευτικό σεμινάριο από το ΚΕΔΙΒΙΜτου Πα.Δ
 .Α.\n\nΠαρακαλούμε όπως διαθέσετε τη βιβλι
 οθήκη για το σκοπό αυτό ώστε να διευκολυ
 νθεί η παρακολούθηση από του εργαζόμενο
 υς του τμήματος Φυσικοθεραπείας.\n\n&nbsp\;\n\
 nΜε εκτίμηση\n\nΠαντουβάκη Άννα
CATEGORIES:Εκπαίδευση
LOCATION:Βιβλιοθήκη Γ.Ν. Βενιζέλειο - Πανάνει
 ο\, Λεωφόρος Κνωσού\, Ηράκλειο\, Ελλάδα\, 714
 09\, Κρήτη\, Greece
X-APPLE-STRUCTURED-LOCATION;VALUE=URI;X-ADDRESS=Λεωφόρος Κνωσο
 ύ\, Ηράκλειο\, Ελλάδα\, 71409\, Κρήτη\, Greece;X-APPLE
 -RADIUS=100;X-TITLE=Βιβλιοθήκη Γ.Ν. Βενιζέλειο - Π
 ανάνειο:geo:0,0
END:VEVENT
END:VCALENDAR