﻿BEGIN:VCALENDAR
VERSION:2.0
PRODID:-//wp-events-plugin.com//7.2.3.1//EN
BEGIN:VEVENT
UID:656@venizeleio.gr
DTSTART:20191122T120000Z
DTEND:20191122T130000Z
DTSTAMP:20191120T052014Z
URL:https://www.venizeleio.gr/events/pneymoniki-emvoli-kateythyntiries-odi
 gies-2019/
SUMMARY:Πνευμονική Εμβολή: Κατευθυντήριες Ο
 δηγίες 2019
DESCRIPTION:Ομιλητής Β. Αμαργιανιτάκης\, Πνευμ
 ον/γος ΒΓΝΗ\n\nΜάθημα του εκπαιδευτικού π
 ρογράμματος της Α΄παθολογικής
CATEGORIES:Εκπαίδευση
LOCATION:Βιβλιοθήκη Γ.Ν. Βενιζέλειο - Πανάνει
 ο\, Λεωφόρος Κνωσού\, Ηράκλειο\, Ελλάδα\, 714
 09\, Κρήτη\, Greece
X-APPLE-STRUCTURED-LOCATION;VALUE=URI;X-ADDRESS=Λεωφόρος Κνωσο
 ύ\, Ηράκλειο\, Ελλάδα\, 71409\, Κρήτη\, Greece;X-APPLE
 -RADIUS=100;X-TITLE=Βιβλιοθήκη Γ.Ν. Βενιζέλειο - Π
 ανάνειο:geo:0,0
END:VEVENT
END:VCALENDAR