﻿BEGIN:VCALENDAR
VERSION:2.0
PRODID:-//wp-events-plugin.com//7.2.3.1//EN
BEGIN:VEVENT
UID:963@venizeleio.gr
DTSTART:20200904T100000Z
DTEND:20200904T110000Z
DTSTAMP:20200903T083243Z
URL:https://www.venizeleio.gr/events/synantisi-ergasias-2/
SUMMARY:Συνάντηση εργασίας
DESCRIPTION:Συνάντηση μέλους τεχνικής υπηρεσί
 ας και Διεύθυνσης ΔΙΕΚ με το Μεσιτικό γρ
 αφείο και τον ιδιοκτήτη του χώρου στον ο
 ποίο ενδέχεται να στεγαστεί το ΔΙΕΚ
CATEGORIES:Συνάντηση Εργασίας
LOCATION:Βιβλιοθήκη Γ.Ν. Βενιζέλειο - Πανάνει
 ο\, Λεωφόρος Κνωσού\, Ηράκλειο\, Ελλάδα\, 714
 09\, Κρήτη\, Greece
X-APPLE-STRUCTURED-LOCATION;VALUE=URI;X-ADDRESS=Λεωφόρος Κνωσο
 ύ\, Ηράκλειο\, Ελλάδα\, 71409\, Κρήτη\, Greece;X-APPLE
 -RADIUS=100;X-TITLE=Βιβλιοθήκη Γ.Ν. Βενιζέλειο - Π
 ανάνειο:geo:0,0
END:VEVENT
END:VCALENDAR