﻿BEGIN:VCALENDAR
VERSION:2.0
PRODID:-//wp-events-plugin.com//7.2.3.1//EN
BEGIN:VEVENT
UID:1052@venizeleio.gr
DTSTART:20210210T080000Z
DTEND:20210210T090000Z
DTSTAMP:20201008T054655Z
URL:https://www.venizeleio.gr/events/synantisi-ergasias-kai-ekpaideytika-m
 athimata-orthopaidikoy-tmimatos-2-2021-02-10/
SUMMARY:ΣΥΝΑΝΤΗΣΗ ΕΡΓΑΣΙΑΣ ΚΑΙ ΕΚΠΑΙΔΕΥΤΙΚΑ
  ΜΑΘΗΜΑΤΑ ΟΡΘΟΠΑΙΔΙΚΟΥ ΤΜΗΜΑΤΟΣ
DESCRIPTION:1.	Ενδοκλινικό μάθημα: «Ηλώσεις μακ
 ρών οστών. Αρχές\, ενδείξεις\, αντενδείξε
 ις και επιπλοκές».\, Γ. Κρουσταλάκης. Διευ
 θυντής ΕΣΥ Ορθοπαιδικής κλινικής ΒΓΝΗ\n2.
 	Προεγχειρητικός σχεδιασμός\n3.	Νοσηρότη
 τα –Θνητότητα \n
CATEGORIES:Εκπαίδευση,Συνάντηση Εργασίας
LOCATION:Βιβλιοθήκη Γ.Ν. Βενιζέλειο - Πανάνει
 ο\, Λεωφόρος Κνωσού\, Ηράκλειο\, Ελλάδα\, 714
 09\, Κρήτη\, Greece
X-APPLE-STRUCTURED-LOCATION;VALUE=URI;X-ADDRESS=Λεωφόρος Κνωσο
 ύ\, Ηράκλειο\, Ελλάδα\, 71409\, Κρήτη\, Greece;X-APPLE
 -RADIUS=100;X-TITLE=Βιβλιοθήκη Γ.Ν. Βενιζέλειο - Π
 ανάνειο:geo:0,0
END:VEVENT
END:VCALENDAR