﻿BEGIN:VCALENDAR
VERSION:2.0
PRODID:-//wp-events-plugin.com//7.2.3.1//EN
BEGIN:VEVENT
UID:811@venizeleio.gr
DTSTART:20201021T080000Z
DTEND:20201021T090000Z
DTSTAMP:20201007T072555Z
URL:https://www.venizeleio.gr/events/synantisi-ergasias-kai-ekpaideytika-m
 athimata-orthopaidikoy-tmimatos-2020-10-21/
SUMMARY:ΣΥΝΑΝΤΗΣΗ ΕΡΓΑΣΙΑΣ ΚΑΙ ΕΚΠΑΙΔΕΥΤΙΚΑ
  ΜΑΘΗΜΑΤΑ ΟΡΘΟΠΑΙΔΙΚΟΥ ΤΜΗΜΑΤΟΣ
DESCRIPTION:1.	Ενδοκλινικό μάθημα: «Εκπαίδευση 
 στην ακτινοπροστασία για ακτινοσκοπικά 
 καθοδηγούμενες διαδικασίες»\, I.Λυδάκης. 
 Ακτινοφυσικός ΒΓΝΗ\n2.	Προεγχειρητικός σ
 χεδιασμός\n3.	Συνάντηση με το εργαστήριο 
 Ακτινοδιαγνωστικής \n
CATEGORIES:Εκπαίδευση,Συνάντηση Εργασίας
LOCATION:Βιβλιοθήκη Γ.Ν. Βενιζέλειο - Πανάνει
 ο\, Λεωφόρος Κνωσού\, Ηράκλειο\, Ελλάδα\, 714
 09\, Κρήτη\, Greece
X-APPLE-STRUCTURED-LOCATION;VALUE=URI;X-ADDRESS=Λεωφόρος Κνωσο
 ύ\, Ηράκλειο\, Ελλάδα\, 71409\, Κρήτη\, Greece;X-APPLE
 -RADIUS=100;X-TITLE=Βιβλιοθήκη Γ.Ν. Βενιζέλειο - Π
 ανάνειο:geo:0,0
END:VEVENT
END:VCALENDAR