﻿BEGIN:VCALENDAR
VERSION:2.0
PRODID:-//wp-events-plugin.com//7.2.3.1//EN
BEGIN:VEVENT
UID:813@venizeleio.gr
DTSTART:20201104T080000Z
DTEND:20201104T090000Z
DTSTAMP:20201007T073227Z
URL:https://www.venizeleio.gr/events/synantisi-ergasias-kai-ekpaideytika-m
 athimata-orthopaidikoy-tmimatos-2020-11-04/
SUMMARY:ΣΥΝΑΝΤΗΣΗ ΕΡΓΑΣΙΑΣ ΚΑΙ ΕΚΠΑΙΔΕΥΤΙΚΑ
  ΜΑΘΗΜΑΤΑ ΟΡΘΟΠΑΙΔΙΚΟΥ ΤΜΗΜΑΤΟΣ
DESCRIPTION:1.	Ενδοκλινικό μάθημα: «Εφαρμογές τ
 ης Μηχανικής Ιστών (Tissue Engineering)  στην Ορθο
 παιδική χειρουργική»\, Π. Συλιγνάκης. Επι
 κ. Επιμελητής  Β΄ ΕΣΥ Ορθοπαιδικής κλινι
 κής ΒΓΝΗ\n2.	Προεγχειρητικός σχεδιασμός\n3
 .	Νοσηρότητα –Θνητότητα \n
CATEGORIES:Εκπαίδευση,Συνάντηση Εργασίας
LOCATION:Βιβλιοθήκη Γ.Ν. Βενιζέλειο - Πανάνει
 ο\, Λεωφόρος Κνωσού\, Ηράκλειο\, Ελλάδα\, 714
 09\, Κρήτη\, Greece
X-APPLE-STRUCTURED-LOCATION;VALUE=URI;X-ADDRESS=Λεωφόρος Κνωσο
 ύ\, Ηράκλειο\, Ελλάδα\, 71409\, Κρήτη\, Greece;X-APPLE
 -RADIUS=100;X-TITLE=Βιβλιοθήκη Γ.Ν. Βενιζέλειο - Π
 ανάνειο:geo:0,0
END:VEVENT
END:VCALENDAR