﻿BEGIN:VCALENDAR
VERSION:2.0
PRODID:-//wp-events-plugin.com//7.2.3.1//EN
BEGIN:VEVENT
UID:355@venizeleio.gr
DTSTART:20190318T093000Z
DTEND:20190318T103000Z
DTSTAMP:20190318T053726Z
URL:https://www.venizeleio.gr/events/synantisi-meli-tis-egesyni-me-dikigor
 o-k-michail/
SUMMARY:Συναντηση μελη της ΕΓΕΣΥΝΗ με δικηγο
 ρο κ Μιχαηλ
DESCRIPTION:
CATEGORIES:Συνάντηση Εργασίας
LOCATION:Βιβλιοθήκη Γ.Ν. Βενιζέλειο - Πανάνει
 ο\, Λεωφόρος Κνωσού\, Ηράκλειο\, Ελλάδα\, 714
 09\, Κρήτη\, Greece
X-APPLE-STRUCTURED-LOCATION;VALUE=URI;X-ADDRESS=Λεωφόρος Κνωσο
 ύ\, Ηράκλειο\, Ελλάδα\, 71409\, Κρήτη\, Greece;X-APPLE
 -RADIUS=100;X-TITLE=Βιβλιοθήκη Γ.Ν. Βενιζέλειο - Π
 ανάνειο:geo:0,0
END:VEVENT
END:VCALENDAR