﻿BEGIN:VCALENDAR
VERSION:2.0
PRODID:-//wp-events-plugin.com//7.2.3.1//EN
BEGIN:VEVENT
UID:262@venizeleio.gr
DTSTART:20181214T073000Z
DTEND:20181214T113000Z
DTSTAMP:20181211T111019Z
URL:https://www.venizeleio.gr/events/synantisi-omadon-epopteias-epaggelmat
 ion-koinonikon-epistimon/
SUMMARY:Συνάντηση ομάδων εποπτείας  επαγγελ
 ματιών κοινωνικών επιστημών
DESCRIPTION:Γεια σας\, θα ήθελα να κάνω   κράτη
 ση της αίθουσας στα πλαίσια των ομάδων ε
 ποπτείας σε επαγγελματίες κοινωνικών επ
 ιστημών
CATEGORIES:Συνάντηση Εργασίας
LOCATION:Βιβλιοθήκη Γ.Ν. Βενιζέλειο - Πανάνει
 ο\, Λεωφόρος Κνωσού\, Ηράκλειο\, Ελλάδα\, 714
 09\, Κρήτη\, Greece
X-APPLE-STRUCTURED-LOCATION;VALUE=URI;X-ADDRESS=Λεωφόρος Κνωσο
 ύ\, Ηράκλειο\, Ελλάδα\, 71409\, Κρήτη\, Greece;X-APPLE
 -RADIUS=100;X-TITLE=Βιβλιοθήκη Γ.Ν. Βενιζέλειο - Π
 ανάνειο:geo:0,0
END:VEVENT
END:VCALENDAR