﻿BEGIN:VCALENDAR
VERSION:2.0
PRODID:-//wp-events-plugin.com//7.2.3.1//EN
BEGIN:VEVENT
UID:1554@venizeleio.gr
DTSTART:20210302T120000Z
DTEND:20210302T140000Z
DTSTAMP:20210301T083205Z
URL:https://www.venizeleio.gr/events/synedriasi-epitropis-nosokomeiakon-lo
 imoxeon-3/
SUMMARY:Συνεδρίαση Επιτροπής Νοσοκομειακών 
 Λοιμώξεων
DESCRIPTION:
CATEGORIES:Συνάντηση Εργασίας
LOCATION:Βιβλιοθήκη Γ.Ν. Βενιζέλειο - Πανάνει
 ο\, Λεωφόρος Κνωσού\, Ηράκλειο\, Ελλάδα\, 714
 09\, Κρήτη\, Greece
X-APPLE-STRUCTURED-LOCATION;VALUE=URI;X-ADDRESS=Λεωφόρος Κνωσο
 ύ\, Ηράκλειο\, Ελλάδα\, 71409\, Κρήτη\, Greece;X-APPLE
 -RADIUS=100;X-TITLE=Βιβλιοθήκη Γ.Ν. Βενιζέλειο - Π
 ανάνειο:geo:0,0
END:VEVENT
END:VCALENDAR