﻿BEGIN:VCALENDAR
VERSION:2.0
PRODID:-//wp-events-plugin.com//7.2.3.1//EN
BEGIN:VEVENT
UID:3109@venizeleio.gr
DTSTART:20230725T090000Z
DTEND:20230725T120000Z
DTSTAMP:20230713T115213Z
URL:https://www.venizeleio.gr/events/synedriasi-ypiresiakoy-symvoylioy-vpg
 ni-25-7-2023/
SUMMARY:Συνεδρίαση Υπηρεσιακού Συμβουλίου Β
 ΠΓΝΗ 25/7/2023
DESCRIPTION:Συνεδρίαση Υπηρεσιακού  Συμβούλι
 ου Γ. Ν. Βενιζελειο- Πανάνειο 25/7/2023 και ώρ
 α 09:00-12:00 
CATEGORIES:Συνάντηση Εργασίας
LOCATION:Βιβλιοθήκη Γ.Ν. Βενιζέλειο - Πανάνει
 ο\, Λεωφόρος Κνωσού\, Ηράκλειο\, Ελλάδα\, 714
 09\, Κρήτη\, Greece
X-APPLE-STRUCTURED-LOCATION;VALUE=URI;X-ADDRESS=Λεωφόρος Κνωσο
 ύ\, Ηράκλειο\, Ελλάδα\, 71409\, Κρήτη\, Greece;X-APPLE
 -RADIUS=100;X-TITLE=Βιβλιοθήκη Γ.Ν. Βενιζέλειο - Π
 ανάνειο:geo:0,0
END:VEVENT
END:VCALENDAR