﻿BEGIN:VCALENDAR
VERSION:2.0
PRODID:-//wp-events-plugin.com//7.2.3.1//EN
BEGIN:VEVENT
UID:99@venizeleio.gr
DTSTART:20180509T080000Z
DTEND:20180509T110000Z
DTSTAMP:20180503T121444Z
URL:https://www.venizeleio.gr/events/syzitisi-gia-bi-kai-pliroforiaka-syst
 imata-me-ton-ko-stefanopoylo-symvoylos-yy/
SUMMARY:Συζήτηση για BI και πληροφοριακά συστ
 ήματα με τον κο Στεφανόπουλο (σύμβουλος 
 ΥΥ)
DESCRIPTION:
CATEGORIES:Παρουσίαση-Ενημέρωση
LOCATION:Βιβλιοθήκη Γ.Ν. Βενιζέλειο - Πανάνει
 ο\, Λεωφόρος Κνωσού\, Ηράκλειο\, Ελλάδα\, 714
 09\, Κρήτη\, Greece
X-APPLE-STRUCTURED-LOCATION;VALUE=URI;X-ADDRESS=Λεωφόρος Κνωσο
 ύ\, Ηράκλειο\, Ελλάδα\, 71409\, Κρήτη\, Greece;X-APPLE
 -RADIUS=100;X-TITLE=Βιβλιοθήκη Γ.Ν. Βενιζέλειο - Π
 ανάνειο:geo:0,0
END:VEVENT
END:VCALENDAR