﻿BEGIN:VCALENDAR
VERSION:2.0
PRODID:-//wp-events-plugin.com//7.2.3.1//EN
BEGIN:VEVENT
UID:1032@venizeleio.gr
DTSTART:20201002T013000Z
DTEND:20201002T023000Z
DTSTAMP:20200922T080310Z
URL:https://www.venizeleio.gr/events/tmima-epistasias-enimerosi-prosopikoy
 /
SUMMARY:ΤΜΗΜΑ  ΕΠΙΣΤΑΣΙΑΣ -  ΕΝΗΜΕΡΩΣΗ  ΠΡΟΣΩ
 ΠΙΚΟΥ
DESCRIPTION:
CATEGORIES:Συνάντηση Εργασίας
LOCATION:Βιβλιοθήκη Γ.Ν. Βενιζέλειο - Πανάνει
 ο\, Λεωφόρος Κνωσού\, Ηράκλειο\, Ελλάδα\, 714
 09\, Κρήτη\, Greece
X-APPLE-STRUCTURED-LOCATION;VALUE=URI;X-ADDRESS=Λεωφόρος Κνωσο
 ύ\, Ηράκλειο\, Ελλάδα\, 71409\, Κρήτη\, Greece;X-APPLE
 -RADIUS=100;X-TITLE=Βιβλιοθήκη Γ.Ν. Βενιζέλειο - Π
 ανάνειο:geo:0,0
END:VEVENT
END:VCALENDAR